BEGIN:VCALENDAR
VERSION:2.0
PRODID:-//Uczelnie.info.pl - ECPv6.15.20//NONSGML v1.0//EN
CALSCALE:GREGORIAN
METHOD:PUBLISH
X-WR-CALNAME:Uczelnie.info.pl
X-ORIGINAL-URL:https://uczelnie.info.pl
X-WR-CALDESC:Wydarzenia dla Uczelnie.info.pl
REFRESH-INTERVAL;VALUE=DURATION:PT1H
X-Robots-Tag:noindex
X-PUBLISHED-TTL:PT1H
BEGIN:VTIMEZONE
TZID:Europe/Warsaw
BEGIN:DAYLIGHT
TZOFFSETFROM:+0100
TZOFFSETTO:+0200
TZNAME:CEST
DTSTART:20250330T010000
END:DAYLIGHT
BEGIN:STANDARD
TZOFFSETFROM:+0200
TZOFFSETTO:+0100
TZNAME:CET
DTSTART:20251026T010000
END:STANDARD
BEGIN:DAYLIGHT
TZOFFSETFROM:+0100
TZOFFSETTO:+0200
TZNAME:CEST
DTSTART:20260329T010000
END:DAYLIGHT
BEGIN:STANDARD
TZOFFSETFROM:+0200
TZOFFSETTO:+0100
TZNAME:CET
DTSTART:20261025T010000
END:STANDARD
BEGIN:DAYLIGHT
TZOFFSETFROM:+0100
TZOFFSETTO:+0200
TZNAME:CEST
DTSTART:20270328T010000
END:DAYLIGHT
BEGIN:STANDARD
TZOFFSETFROM:+0200
TZOFFSETTO:+0100
TZNAME:CET
DTSTART:20271031T010000
END:STANDARD
END:VTIMEZONE
BEGIN:VEVENT
DTSTART;TZID=Europe/Warsaw:20260418T094500
DTEND;TZID=Europe/Warsaw:20260418T141500
DTSTAMP:20260421T105123
CREATED:20260330T054931Z
LAST-MODIFIED:20260330T054932Z
UID:323517-1776505500-1776521700@uczelnie.info.pl
SUMMARY:Uniwersytet Wrocławski - Drzwi Otwarte Instytutu Psychologii UWr
DESCRIPTION:Drzwi Otwarte Instytutu Psychologii UWr\, które w kwietniu organizuje Uniwersytet Wrocławski\, to okazja do zapoznania się z ofertą Instytutu i wzięcia udziału w ciekawych wykładach i warsztatach. \n\n\n\nUniwersytet Wrocławski w sobotę 18 kwietnia 2026 roku zaprasza na Drzwi Otwarte Instytutu Psychologii UWr. \n\n\n\nWydarzenie skierowane jest szczególnie do licealistów oraz osób kończących szkoły średnie\, które rozważają podjęcie studiów psychologicznych w Instytucie Psychologii Uniwersytetu Wrocławskiego. \n\n\n\nPodczas Drzwi Otwartych będzie można poznać ofertę dydaktyczną\, wysłuchać krótkich wykładów oraz wziąć udział w warsztatach przygotowanych przez pracowników oraz doktorantów Instytutu Psychologii. To także dobra okazja\, aby zobaczyć\, jak wygląda studiowanie psychologii\, zadać pytania i porozmawiać z osobami związanymi z Instytutem. \n\n\n\nKiedy? 18 kwietnia 2026 (sobota)\, w godz. 9:45 – 14:15.Gdzie? Instytut Psychologii UWr\, Wrocław\, ul. Dawida 1. \n\n\n\nSzczegółowe informacje na stronie: https://psychologia.uwr.edu.pl/drzwi-otwarte/ \n\n\n\nBądź na bieżąco – dołącz do wydarzenia na Facebooku! \n\n\n\nZOBACZ RÓWNIEŻ: UNIWERSYTET WROCŁAWSKI – AKTUALNOŚCI\, REKRUTACJA NA STUDIA
URL:https://uczelnie.info.pl/event/uniwersytet-wroclawski-drzwi-otwarte-instytutu-psychologii-uwr/
CATEGORIES:Rekrutacja 2026
ATTACH;FMTTYPE=image/jpeg:https://uczelnie.info.pl/wp-content/uploads/2026/03/Uniwersytet-Wroclawski-Drzwi-Otwarte-Instytutu-Psychologii-UWr.jpg
END:VEVENT
BEGIN:VEVENT
DTSTART;TZID=Europe/Warsaw:20260418T100000
DTEND;TZID=Europe/Warsaw:20260418T160000
DTSTAMP:20260421T105123
CREATED:20260325T103524Z
LAST-MODIFIED:20260325T103526Z
UID:322973-1776506400-1776528000@uczelnie.info.pl
SUMMARY:Dzień Otwarty UW - Uniwersytet Warszawski
DESCRIPTION:Dzień Otwarty\, który 18 kwietnia br. organizuje Uniwersytet Warszawski\, to najlepsza okazja\, aby zapoznać się z ofertą edukacyjną UW\, zobaczyć kampus\, a także porozmawiać z wykładowcami i studentami. \n\n\n\nUniwersytet Warszawski w sobotę 18 kwietnia 2026 roku zaprasza na Dzień Otwarty UW! \n\n\n\nUW otwiera drzwi dla wszystkich zainteresowanych działalnością największej uczelni w kraju\, a przede wszystkim dla kandydatów na studia i chętnych do podjęcia kształcenia w szkołach doktorskich. \n\n\n\nW czasie Dnia Otwartego na kampusie głównym UW będą na Was czekać przedstawiciele wszystkich wydziałów. Dowiecie się więcej o programach studiów\, zasadach rekrutacji na poszczególne kierunki\, czy dodatkowych możliwościach oferowanych przez Uniwersytet Warszawski. \n\n\n\nPrzyjdź i dowiedz się\, w jaki sposób dołączyć do najlepszej uczelni w Polsce! \n\n\n\nKiedy? 18 kwietnia 2026 roku (sobota)\, w godz. 10:00 – 16:00.Gdzie? Uniwersytet Warszawski\, Warszawa\, Kampus główny UW\, ul. Krakowskie Przedmieście 26/28. \n\n\n\nSzczegółowe informacje na stronie Uczelni: https://www.uw.edu.pl/dzien-otwarty-uw-2026/ \n\n\n\nBądź na bieżąco – śledź profil UW na Facebooku! \n\n\n\nZOBACZ RÓWNIEŻ: UNIWERSYTET WARSZAWSKI – AKTUALNOŚCI\, REKRUTACJA NA STUDIA
URL:https://uczelnie.info.pl/event/dzien-otwarty-uw-uniwersytet-warszawski/
CATEGORIES:Rekrutacja 2026
ATTACH;FMTTYPE=image/jpeg:https://uczelnie.info.pl/wp-content/uploads/2026/03/Uniwersytet-Warszawski-Dzien-Otwarty-UW.jpg
END:VEVENT
END:VCALENDAR