BEGIN:VCALENDAR
VERSION:2.0
PRODID:-//Uczelnie.info.pl - ECPv6.15.20//NONSGML v1.0//EN
CALSCALE:GREGORIAN
METHOD:PUBLISH
X-WR-CALNAME:Uczelnie.info.pl
X-ORIGINAL-URL:https://uczelnie.info.pl
X-WR-CALDESC:Wydarzenia dla Uczelnie.info.pl
REFRESH-INTERVAL;VALUE=DURATION:PT1H
X-Robots-Tag:noindex
X-PUBLISHED-TTL:PT1H
BEGIN:VTIMEZONE
TZID:Europe/Warsaw
BEGIN:DAYLIGHT
TZOFFSETFROM:+0100
TZOFFSETTO:+0200
TZNAME:CEST
DTSTART:20250330T010000
END:DAYLIGHT
BEGIN:STANDARD
TZOFFSETFROM:+0200
TZOFFSETTO:+0100
TZNAME:CET
DTSTART:20251026T010000
END:STANDARD
BEGIN:DAYLIGHT
TZOFFSETFROM:+0100
TZOFFSETTO:+0200
TZNAME:CEST
DTSTART:20260329T010000
END:DAYLIGHT
BEGIN:STANDARD
TZOFFSETFROM:+0200
TZOFFSETTO:+0100
TZNAME:CET
DTSTART:20261025T010000
END:STANDARD
BEGIN:DAYLIGHT
TZOFFSETFROM:+0100
TZOFFSETTO:+0200
TZNAME:CEST
DTSTART:20270328T010000
END:DAYLIGHT
BEGIN:STANDARD
TZOFFSETFROM:+0200
TZOFFSETTO:+0100
TZNAME:CET
DTSTART:20271031T010000
END:STANDARD
END:VTIMEZONE
BEGIN:VEVENT
DTSTART;TZID=Europe/Warsaw:20260420T000000
DTEND;TZID=Europe/Warsaw:20260420T235959
DTSTAMP:20260422T142728
CREATED:20260330T071336Z
LAST-MODIFIED:20260330T071339Z
UID:323545-1776643200-1776729599@uczelnie.info.pl
SUMMARY:Dzień Otwarty w AJP - Akademia im. Jakuba z Paradyża w Gorzowie Wielkopolskim
DESCRIPTION:Dzień Otwarty w AJP to doskonała okazja dla potencjalnych kandydatów na studia\, by zapoznać się z ofertą\, którą przygotowała dla nich Akademia im. Jakuba z Paradyża w Gorzowie Wielkopolskim! \n\n\n\nAkademia im. Jakuba z Paradyża w Gorzowie Wielkopolskim w poniedziałek 20 kwietnia 2026 roku zaprasza na Dzień Otwarty w AJP! \n\n\n\nTo idealny moment na to\, aby: \n\n\n\n\nzobaczyć Kampus i porozmawiać z jego społecznością\,\n\n\n\npoznać kierunki studiów i przekonać się\, jakie możliwości daje studiowanie w AJP\,\n\n\n\nspędzić czas w niesamowitej atmosferze.\n\n\n\n\nKiedy? 20 kwietnia 2026 roku (poniedziałek).Gdzie? AJP\, Gorzów Wielkopolski\, ul. Fryderyka Chopina 52. \n\n\n\nSzczegółowe informacje już wkrótce na stronie Uczelni: https://ajp.edu.pl/dzien-otwarty-w-ajp/ \n\n\n\nBądź na bieżąco – śledź profil AJP na Facebooku! \n\n\n\nZOBACZ RÓWNIEŻ: AKADEMIA IM. JAKUBA Z PARADYŻA W GORZOWIE WIELKOPOLSKIM – AKTUALNOŚCI\, REKRUTACJA NA STUDIA
URL:https://uczelnie.info.pl/event/dzien-otwarty-w-ajp-akademia-im-jakuba-z-paradyza-w-gorzowie-wielkopolskim/
CATEGORIES:Rekrutacja 2026
ATTACH;FMTTYPE=image/jpeg:https://uczelnie.info.pl/wp-content/uploads/2026/03/Dzien-Otwarty-AJP.jpg
END:VEVENT
BEGIN:VEVENT
DTSTART;TZID=Europe/Warsaw:20260420T000000
DTEND;TZID=Europe/Warsaw:20260421T235959
DTSTAMP:20260422T142728
CREATED:20260401T064718Z
LAST-MODIFIED:20260401T064720Z
UID:323821-1776643200-1776815999@uczelnie.info.pl
SUMMARY:Dni Otwarte Instytutu Muzyki Kościelnej UPJP2 w Krakowie
DESCRIPTION:Na Dni Otwarte Instytutu Muzyki Kościelnej UPJP2 zaprasza Uniwersytet Papieski Jana Pawła II w Krakowie! \n\n\n\nUniwersytet Papieski Jana Pawła II w Krakowie w dniach 20-21 kwietnia 2026 roku organizuje Dni Otwarte Instytutu Muzyki Kościelnej UPJP2. \n\n\n\nDni Otwarte Instytutu Muzyki Kościelnej Uniwersytetu Papieskiego Jana Pawła II w Krakowie to wydarzenie skierowane do kandydatów na studia zainteresowanych muzyką\, liturgią i sztuką. \n\n\n\nW jego trakcie możliwe będzie uczestnictwo w rzeczywistych zajęciach dydaktycznych oraz poznanie specyfiki studiów i codziennego funkcjonowania Instytutu. To przestrzeń do bezpośredniego kontaktu z wykładowcami i studentami oraz zdobycia praktycznego doświadczenia jeszcze przed rozpoczęciem studiów. \n\n\n\nKiedy? 20-21 kwietnia 2026 roku (poniedziałek i wtorek).Gdzie? Instytut Muzyki Kościelnej UPJP2\, Kraków\, ul. Prosta 35A. \n\n\n\nSzczegółowe informacje i program na stronie Uczelni. \n\n\n\nBądź na bieżąco – dołącz do wydarzenia na Facebooku! \n\n\n\nZOBACZ RÓWNIEŻ: UNIWERSYTET PAPIESKI JANA PAWŁA II W KRAKOWIE – AKTUALNOŚCI\, REKRUTACJA NA STUDIA
URL:https://uczelnie.info.pl/event/dni-otwarte-instytutu-muzyki-koscielnej-upjp2-w-krakowie/
CATEGORIES:Rekrutacja 2026
ATTACH;FMTTYPE=image/jpeg:https://uczelnie.info.pl/wp-content/uploads/2026/04/UPJP2-w-Krakowie-Dni-Otwarte-Instytutu-Muzyki-Koscielnej.jpg
END:VEVENT
BEGIN:VEVENT
DTSTART;TZID=Europe/Warsaw:20260420T000000
DTEND;TZID=Europe/Warsaw:20260424T235959
DTSTAMP:20260422T142728
CREATED:20260313T113520Z
LAST-MODIFIED:20260313T113533Z
UID:321361-1776643200-1777075199@uczelnie.info.pl
SUMMARY:XXIX Poznański Festiwal Nauki i Sztuki
DESCRIPTION:Poznański Festiwal Nauki i Sztuki to wyjątkowe\, akademickie wydarzenie popularyzujące naukę i sztukę wśród mieszkańców Poznania i regionu\, a także gości z całej Polski. \n\n\n\nTegoroczny Poznański Festiwal Nauki i Sztuki (XXIX edycja) odbywać się będzie pod hasłem przewodnim: „Jakość”! To temat inspirujący do rozmów o tym\, jak nauka\, badania i twórczość wpływają na jakość naszego życia\, edukacji oraz otaczającego nas świata. \n\n\n\nKażdego roku naukowcy i artyści zapraszają uczestników do odkrywania fascynującego świata wiedzy\, w którym nic nie jest takie\, jak się wydaje na pierwszy rzut oka\, a nauka staje się prawdziwą przygodą dostępną dla każdego. \n\n\n\nTermin tegorocznej edycji: 20-24 kwietnia 2026. \n\n\n\nW trakcie festiwalu wszystkie poznańskie uczelnie publiczne otworzą swoje drzwi dla dzieci i młodzieży\, zapraszając na: \n\n\n\n\nwarsztaty i zajęcia laboratoryjne\,\n\n\n\nwykłady i spotkania z naukowcami\,\n\n\n\npokazy doświadczeń\,\n\n\n\nprezentacje i wydarzenia artystyczne.\n\n\n\n\nTo niepowtarzalna okazja\, aby zajrzeć do laboratoriów\, sal wykładowych i pracowni badawczych oraz odkryć tajemnice wielu dziedzin nauki i sztuki. \n\n\n\nSzczegółowy program wydarzeń już wkrótce na stronie: https://festiwal.amu.edu.pl \n\n\n\nBądź na bieżąco – dołącz do wydarzenia na Facebooku!
URL:https://uczelnie.info.pl/event/xxix-poznanski-festiwal-nauki-i-sztuki/
CATEGORIES:Rekrutacja 2026
ATTACH;FMTTYPE=image/jpeg:https://uczelnie.info.pl/wp-content/uploads/2026/03/Poznanski-Festiwal-Nauki-i-Sztuki-2026.jpg
END:VEVENT
BEGIN:VEVENT
DTSTART;TZID=Europe/Warsaw:20260420T100000
DTEND;TZID=Europe/Warsaw:20260420T100000
DTSTAMP:20260422T142728
CREATED:20260413T054716Z
LAST-MODIFIED:20260413T054718Z
UID:325285-1776679200-1776679200@uczelnie.info.pl
SUMMARY:Akademia Techniczno-Artystyczna - Dzień Otwarty ATA w Warszawie
DESCRIPTION:Akademia Techniczno-Artystyczna Nauk Stosowanych w Warszawie w poniedziałek 20 kwietnia 2026 roku zaprasza na Dzień Otwarty ATA! \n\n\n\nW programie między innymi: \n\n\n\n\nQ&A i Zasady Rekrutacji – Wszystko\, co musisz wiedzieć o dokumentach\, terminach i portfoliach/egzaminach;\n\n\n\nTworzenie agentów AI – warsztaty informatyczne\n\n\n\nPodstawowe elementy budowy przestrzeni w obrazie – warsztaty malarskie\n\n\n\nBIM: nowoczesne narzędzia w procesie projektowym – warsztaty komputerowe\n\n\n\nWykład „Jak kompetencje miękkie zmieniają nas i mogą zmieniać świat?„.\n\n\n\n\nPodczas przerwy (11:30 – 12:00) organizatorzy zapraszają do odwiedzenia specjalnych stanowisk informacyjnych\, gdzie będzie można porozmawiać z przedstawicielami uczelni\, zadać pytania i uzyskać szczegółowe informacje o studiach\, rekrutacji oraz możliwościach rozwoju zawodowego. \n\n\n\nNa miejscu będą dostępne stanowiska: \n\n\n\n\nWydziału Architektury – informacje o kierunkach\, specjalnościach\, projektach studenckich i pracowniach\,\n\n\n\nWydziału Inżynierii i Zarządzania – prezentacja programów studiów\, ścieżek kariery i możliwości rozwoju\,\n\n\n\nRekrutacji – pomoc w wyborze kierunku\, zasady przyjęć\, dokumenty i terminy\,\n\n\n\nBiura Karier – Ośrodka Akademickiego Kompetencji (OAK) – doradztwo zawodowe\, praktyki\, staże i rozwój kompetencji.\n\n\n\n\nOdwiedź stanowiska\, poznaj wykładowców i studentów oraz dowiedz się\, jak wygląda studiowanie w praktyce. \n\n\n\nKiedy? 20 kwietnia 2026 roku (poniedziałek)\, godz. 10:00.Gdzie? ATA Warszawa\, ul. Rejtana 16. \n\n\n\nSzczegółowe informacje\, program i zapisy na stronie Uczelni: akademiata.pl/dzien-otwarty-warszawa-2026/ \n\n\n\nBądź na bieżąco – śledź profil Uczelni na Facebooku! \n\n\n\nZOBACZ RÓWNIEŻ: AKADEMIA TECHNICZNO-ARTYSTYCZNA W WARSZAWIE – AKTUALNOŚCI\, REKRUTACJA NA STUDIA
URL:https://uczelnie.info.pl/event/akademia-techniczno-artystyczna-dzien-otwarty-ata-w-warszawie/
CATEGORIES:Rekrutacja 2026
ATTACH;FMTTYPE=image/jpeg:https://uczelnie.info.pl/wp-content/uploads/2026/04/Dzien-Otwarty-ATA-w-Warszawie.jpg
END:VEVENT
BEGIN:VEVENT
DTSTART;TZID=Europe/Warsaw:20260420T150000
DTEND;TZID=Europe/Warsaw:20260421T180000
DTSTAMP:20260422T142728
CREATED:20260114T150254Z
LAST-MODIFIED:20260114T150257Z
UID:314269-1776697200-1776794400@uczelnie.info.pl
SUMMARY:II Sympozjum Naukowe: Kluczowe trendy w chemii reakcji cykloaddycji - Politechnika Krakowska
DESCRIPTION:Politechnika Krakowska zaprasza do udziału w II Sympozjum Naukowym „Kluczowe trendy w chemii reakcji cykloaddycji”\, które odbędzie się w dniach 20-21 kwietnia 2026 roku na Wydziale Inżynierii i Technologii Chemicznej. Wydarzenie to organizowane jest przez Zespół Fizycznej Chemii Organicznej. \n\n\n\nTematyka sympozjum obejmuje: \n\n\n\n\nNajnowsze osiągnięcia w chemii reakcji cykloaddycji\n\n\n\nZastosowanie reakcji cykloaddycji w syntezie związków organicznych\n\n\n\nNowe kierunki badań w obszarze chemii organicznej\n\n\n\n\nW trakcie sympozjum przewidziane są prelekcje wybitnych naukowców specjalizujących się w tej dziedzinie\, a także sesje dyskusyjne umożliwiające wymianę doświadczeń i poglądów. Odbędzie się także sesja posterowa z najnowszymi osiągnięciami naukowymi. \n\n\n\nRejestracja:Udział w sympozjum jest bezpłatny\, jednak ze względu na ograniczoną liczbę miejsc organizatorzy proszą o wcześniejszą rejestrację. Formularz rejestracyjny oraz szczegółowy program wydarzenia dostępne są na stronie: https://cycloaddition.pk.edu.pl \n\n\n\nWażne terminy: \n\n\n\n\nzapisy – do 31.01.2026\n\n\n\nnadsyłanie abstraktów – do 28.02.2026\n\n\n\n\nZapraszamy wszystkich zainteresowanych\, a w szczególności studentów\, do udziału w tym wyjątkowym wydarzeniu naukowym\, które stanowi doskonałą okazję do poszerzenia wiedzy oraz nawiązania wartościowych kontaktów w środowisku chemików. \n\n\n\nBądź na bieżąco – dołącz do wydarzenia na Facebooku! \n\n\n\nZOBACZ RÓWNIEŻ: POLITECHNIKA KRAKOWSKA – AKTUALNOŚCI\, REKRUTACJA NA STU
URL:https://uczelnie.info.pl/event/ii-sympozjum-naukowe-kluczowe-trendy-w-chemii-reakcji-cykloaddycji-politechnika-krakowska/
ATTACH;FMTTYPE=image/jpeg:https://uczelnie.info.pl/wp-content/uploads/2026/01/Politechnika-Krakowska-sympozjum-naukowe.jpg
END:VEVENT
END:VCALENDAR