BEGIN:VCALENDAR
VERSION:2.0
PRODID:-//Uczelnie.info.pl - ECPv6.15.20//NONSGML v1.0//EN
CALSCALE:GREGORIAN
METHOD:PUBLISH
X-WR-CALNAME:Uczelnie.info.pl
X-ORIGINAL-URL:https://uczelnie.info.pl
X-WR-CALDESC:Wydarzenia dla Uczelnie.info.pl
REFRESH-INTERVAL;VALUE=DURATION:PT1H
X-Robots-Tag:noindex
X-PUBLISHED-TTL:PT1H
BEGIN:VTIMEZONE
TZID:Europe/Warsaw
BEGIN:DAYLIGHT
TZOFFSETFROM:+0100
TZOFFSETTO:+0200
TZNAME:CEST
DTSTART:20250330T010000
END:DAYLIGHT
BEGIN:STANDARD
TZOFFSETFROM:+0200
TZOFFSETTO:+0100
TZNAME:CET
DTSTART:20251026T010000
END:STANDARD
BEGIN:DAYLIGHT
TZOFFSETFROM:+0100
TZOFFSETTO:+0200
TZNAME:CEST
DTSTART:20260329T010000
END:DAYLIGHT
BEGIN:STANDARD
TZOFFSETFROM:+0200
TZOFFSETTO:+0100
TZNAME:CET
DTSTART:20261025T010000
END:STANDARD
BEGIN:DAYLIGHT
TZOFFSETFROM:+0100
TZOFFSETTO:+0200
TZNAME:CEST
DTSTART:20270328T010000
END:DAYLIGHT
BEGIN:STANDARD
TZOFFSETFROM:+0200
TZOFFSETTO:+0100
TZNAME:CET
DTSTART:20271031T010000
END:STANDARD
END:VTIMEZONE
BEGIN:VEVENT
DTSTART;TZID=Europe/Warsaw:20260420T000000
DTEND;TZID=Europe/Warsaw:20260424T235959
DTSTAMP:20260423T013238
CREATED:20260313T113520Z
LAST-MODIFIED:20260313T113533Z
UID:321361-1776643200-1777075199@uczelnie.info.pl
SUMMARY:XXIX Poznański Festiwal Nauki i Sztuki
DESCRIPTION:Poznański Festiwal Nauki i Sztuki to wyjątkowe\, akademickie wydarzenie popularyzujące naukę i sztukę wśród mieszkańców Poznania i regionu\, a także gości z całej Polski. \n\n\n\nTegoroczny Poznański Festiwal Nauki i Sztuki (XXIX edycja) odbywać się będzie pod hasłem przewodnim: „Jakość”! To temat inspirujący do rozmów o tym\, jak nauka\, badania i twórczość wpływają na jakość naszego życia\, edukacji oraz otaczającego nas świata. \n\n\n\nKażdego roku naukowcy i artyści zapraszają uczestników do odkrywania fascynującego świata wiedzy\, w którym nic nie jest takie\, jak się wydaje na pierwszy rzut oka\, a nauka staje się prawdziwą przygodą dostępną dla każdego. \n\n\n\nTermin tegorocznej edycji: 20-24 kwietnia 2026. \n\n\n\nW trakcie festiwalu wszystkie poznańskie uczelnie publiczne otworzą swoje drzwi dla dzieci i młodzieży\, zapraszając na: \n\n\n\n\nwarsztaty i zajęcia laboratoryjne\,\n\n\n\nwykłady i spotkania z naukowcami\,\n\n\n\npokazy doświadczeń\,\n\n\n\nprezentacje i wydarzenia artystyczne.\n\n\n\n\nTo niepowtarzalna okazja\, aby zajrzeć do laboratoriów\, sal wykładowych i pracowni badawczych oraz odkryć tajemnice wielu dziedzin nauki i sztuki. \n\n\n\nSzczegółowy program wydarzeń już wkrótce na stronie: https://festiwal.amu.edu.pl \n\n\n\nBądź na bieżąco – dołącz do wydarzenia na Facebooku!
URL:https://uczelnie.info.pl/event/xxix-poznanski-festiwal-nauki-i-sztuki/
CATEGORIES:Rekrutacja 2026
ATTACH;FMTTYPE=image/jpeg:https://uczelnie.info.pl/wp-content/uploads/2026/03/Poznanski-Festiwal-Nauki-i-Sztuki-2026.jpg
END:VEVENT
BEGIN:VEVENT
DTSTART;TZID=Europe/Warsaw:20260423T100000
DTEND;TZID=Europe/Warsaw:20260423T140000
DTSTAMP:20260423T013238
CREATED:20260413T074249Z
LAST-MODIFIED:20260413T074252Z
UID:325307-1776938400-1776952800@uczelnie.info.pl
SUMMARY:Przedsmak studiów w WSP - Dzień Otwarty Wyższej Szkoły Prawa we Wrocławiu
DESCRIPTION:Wyższa Szkoła Prawa we Wrocławiu w czwartek 23 kwietnia 2026 roku zaprasza na Dzień Otwarty „Przedsmak studiów w WSP”. \n\n\n\nTo wyjątkowa okazja\, by spotkać się z wykładowcami i studentami\, wziąć udział w zajęciach z elementami praktyki i poznać uczelnię „od środka”. \n\n\n\nDowiesz się więcej o kierunkach studiów: \n\n\n\n\nPrawo\,\n\n\n\nZarządzanie i prawo w biznesie oraz\n\n\n\nBezpieczeństwo wewnętrzne (Kryminologia i kryminalistyka\, Psychokryminalistyka oraz Cyberbezpieczeństwo).\n\n\n\n\nKiedy? 23 kwietnia 2026 roku (czwartek)\, w godz. 10:00 – 14:00.Gdzie? Wyższa Szkoła Prawa we Wrocławiu\, ul. św. Jadwigi 12. \n\n\n\nSzczegółowe informacje\, program i zapisy na stronie Uczelni. \n\n\n\nBądź na bieżąco – śledź profil WSP na Facebooku. \n\n\n\nZOBACZ RÓWNIEŻ: WYŻSZA SZKOŁA PRAWA WE WROCŁAWIU – AKTUALNOŚCI\, REKRUTACJA N
URL:https://uczelnie.info.pl/event/przedsmak-studiow-w-wsp-dzien-otwarty-wyzszej-szkoly-prawa-we-wroclawiu/
CATEGORIES:Rekrutacja 2026
ATTACH;FMTTYPE=image/jpeg:https://uczelnie.info.pl/wp-content/uploads/2026/04/Dzien-Otwarty-WSP-we-Wroclawiu.jpg
END:VEVENT
BEGIN:VEVENT
DTSTART;TZID=Europe/Warsaw:20260423T120000
DTEND;TZID=Europe/Warsaw:20260423T120000
DTSTAMP:20260423T013238
CREATED:20260413T071357Z
LAST-MODIFIED:20260413T071359Z
UID:325294-1776945600-1776945600@uczelnie.info.pl
SUMMARY:Porozmawiajmy o studiach - spotkanie w Welcome Center UAM w Poznaniu
DESCRIPTION:UAM w Poznaniu organizuje spotkania „Porozmawiajmy o studiach”. Najbliższe zaplanowane jest na 23 kwietnia\, kolejne na 11 maja! \n\n\n\nUniwersytet im. Adama Mickiewicza w czwartek 23 kwietnia 2026 roku zaprasza na spotkanie „Porozmawiajmy o studiach„\, które odbędzie się w punkcie Welcome Center UAM w Poznaniu. \n\n\n\nZastanawiasz się\, jak wyglądają studia i co możesz zyskać\, wybierając UAM? To spotkanie jest właśnie dla Ciebie! \n\n\n\nOrganizatorzy przygotowali program\, który pomoże Ci lepiej poznać uczelnię i świadomie zaplanować swoją przyszłość. \n\n\n\nDowiesz się m.in. o: \n\n\n\n\nUAM i jego możliwościach\,\n\n\n\nofercie edukacyjnej\,\n\n\n\nprocesie rekrutacji\,\n\n\n\nwsparciu dla studentów\,\n\n\n\nprojektach i inicjatywach\, w które możesz się zaangażować.\n\n\n\n\nSpotkania odbywają się w siedzibie Welcome Center przy ulicy Święty Marcin 78. Prezentacja trwa około godziny. Chęć udziału należy zgłosić\, wypełniając formularz. Możliwa jest rejestracja indywidualna lub grupowa. \n\n\n\nTerminy najbliższych spotkań to: \n\n\n\n\n23 kwietnia (czwartek)\, godzina 12:00 – link do formularza\n\n\n\n11 maja (poniedziałek)\, godzina 10:00 – link do formularza\n\n\n\n\nWięcej informacji o spotkaniach znajdziesz na stronie:https://amu.edu.pl/wspolpraca/dla-szkol/porozmawiajmy-o-studiach \n\n\n\nZOBACZ RÓWNIEŻ: UNIWERSYTET IM. ADAMA MICKIEWICZA W POZNANIU – AKTUALNOŚCI\, REKRUTACJA NA STUDIA
URL:https://uczelnie.info.pl/event/porozmawiajmy-o-studiach-spotkanie-w-welcome-center-uam-w-poznaniu/
CATEGORIES:Rekrutacja 2026
ATTACH;FMTTYPE=image/jpeg:https://uczelnie.info.pl/wp-content/uploads/2026/04/UAM-w-Poznaniu-porozmawiajmy-o-studiach.jpg
END:VEVENT
END:VCALENDAR